BEGIN:VCALENDAR
VERSION:2.0
CALSCALE:GREGORIAN
PRODID:-//Diputació de Barcelona//DibaCMS//EN
BEGIN:VEVENT
UID:10894
DTSTAMP:20260426T012442
DTSTART:20260123T180000
DTEND:20260123T200000
SUMMARY:ESPAI JOVE: Taller de sexualitat
LOCATION:Carrer Escoles, 1 08213 Polinyà
METHOD:PUBLISH
X-WR-CALNAME:polinya@ajpolinya.cat
X-WR-TIMEZONE:Europe/Madrid
DESCRIPTION:
URI:https://www.polinya.cat/actualitat/agenda/espai-jove-taller-de-sexualitat.html
CLASS:PUBLIC
END:VEVENT
END:VCALENDAR
